BEGIN:VCALENDAR
VERSION:2.0
PRODID:-//Town of Hampton - ECPv6.15.18//NONSGML v1.0//EN
CALSCALE:GREGORIAN
METHOD:PUBLISH
X-WR-CALNAME:Town of Hampton
X-ORIGINAL-URL:https://hampton.ca
X-WR-CALDESC:Events for Town of Hampton
REFRESH-INTERVAL;VALUE=DURATION:PT1H
X-Robots-Tag:noindex
X-PUBLISHED-TTL:PT1H
BEGIN:VTIMEZONE
TZID:America/Halifax
BEGIN:DAYLIGHT
TZOFFSETFROM:-0400
TZOFFSETTO:-0300
TZNAME:ADT
DTSTART:20240310T060000
END:DAYLIGHT
BEGIN:STANDARD
TZOFFSETFROM:-0300
TZOFFSETTO:-0400
TZNAME:AST
DTSTART:20241103T050000
END:STANDARD
BEGIN:DAYLIGHT
TZOFFSETFROM:-0400
TZOFFSETTO:-0300
TZNAME:ADT
DTSTART:20250309T060000
END:DAYLIGHT
BEGIN:STANDARD
TZOFFSETFROM:-0300
TZOFFSETTO:-0400
TZNAME:AST
DTSTART:20251102T050000
END:STANDARD
BEGIN:DAYLIGHT
TZOFFSETFROM:-0400
TZOFFSETTO:-0300
TZNAME:ADT
DTSTART:20260308T060000
END:DAYLIGHT
BEGIN:STANDARD
TZOFFSETFROM:-0300
TZOFFSETTO:-0400
TZNAME:AST
DTSTART:20261101T050000
END:STANDARD
END:VTIMEZONE
BEGIN:VEVENT
DTSTART;TZID=America/Halifax:20250723T100000
DTEND;TZID=America/Halifax:20250723T103000
DTSTAMP:20260423T135020
CREATED:20250521T224420Z
LAST-MODIFIED:20250521T224420Z
UID:10005754-1753264800-1753266600@hampton.ca
SUMMARY:Qigong Classes
DESCRIPTION:Visit the Masonic Lodge at 6 Church Street and explore Qigong. This is an ancient Chinese practice that combines slow\, flowing movements\, deep breathing\, and mindfulness. Perfect for all ages and fitness levels\, Qigong helps to reduce stress\, improve balance\, and cultivate inner calm. Whether you’re curious about trying something new or looking to enhance your well-being\, this session will leave you feeling refreshed and centred. \n\n\n\nStarting June 4th and running until July 23rd from 10AM to 10:30AM. \n\n\n\nNo registration is required. $5.00 for these drop-in classes.
URL:https://hampton.ca/event/qigong-classes-3/
LOCATION:Corinthian Lodge #13 Masonic Lodge\, 6 Church Street\, Hampton\, NB
CATEGORIES:Community Event
END:VEVENT
END:VCALENDAR