BEGIN:VCALENDAR
VERSION:2.0
PRODID:-//Town of Hampton - ECPv6.15.18//NONSGML v1.0//EN
CALSCALE:GREGORIAN
METHOD:PUBLISH
X-WR-CALNAME:Town of Hampton
X-ORIGINAL-URL:https://hampton.ca
X-WR-CALDESC:Events for Town of Hampton
REFRESH-INTERVAL;VALUE=DURATION:PT1H
X-Robots-Tag:noindex
X-PUBLISHED-TTL:PT1H
BEGIN:VTIMEZONE
TZID:America/Halifax
BEGIN:DAYLIGHT
TZOFFSETFROM:-0400
TZOFFSETTO:-0300
TZNAME:ADT
DTSTART:20250309T060000
END:DAYLIGHT
BEGIN:STANDARD
TZOFFSETFROM:-0300
TZOFFSETTO:-0400
TZNAME:AST
DTSTART:20251102T050000
END:STANDARD
BEGIN:DAYLIGHT
TZOFFSETFROM:-0400
TZOFFSETTO:-0300
TZNAME:ADT
DTSTART:20260308T060000
END:DAYLIGHT
BEGIN:STANDARD
TZOFFSETFROM:-0300
TZOFFSETTO:-0400
TZNAME:AST
DTSTART:20261101T050000
END:STANDARD
BEGIN:DAYLIGHT
TZOFFSETFROM:-0400
TZOFFSETTO:-0300
TZNAME:ADT
DTSTART:20270314T060000
END:DAYLIGHT
BEGIN:STANDARD
TZOFFSETFROM:-0300
TZOFFSETTO:-0400
TZNAME:AST
DTSTART:20271107T050000
END:STANDARD
END:VTIMEZONE
BEGIN:VEVENT
DTSTART;TZID=America/Halifax:20261217T190000
DTEND;TZID=America/Halifax:20261217T213000
DTSTAMP:20260422T185845
CREATED:20260408T144919Z
LAST-MODIFIED:20260408T144920Z
UID:10006304-1797534000-1797543000@hampton.ca
SUMMARY:TIFF Third Thursdays
DESCRIPTION:Join us for TIFF Third Thursdays\, a monthly film series held at 7:30PM in the McLeod Community Room at the Summit Centre. Each screening features a curated selection of Canadian and international films\, bringing unique and engaging cinema to our community. \n\n\n\nThis month’s film is “The Baltimorons”\, directed by Jay Duplass. Doors open at 7PM. \n\n\n\nTickets are $12.50 per film or $80 for the 2026 season. Visit Amilia to buy tickets today!
URL:https://hampton.ca/event/tiff-third-thursdays-6/
LOCATION:McLeod Community Room\, 300 William Bell Drive\, Hampton\, New Brunswick\, Canada
CATEGORIES:Community Event
ATTACH;FMTTYPE=image/jpeg:https://hampton.ca/wp-content/uploads/2026/04/5.-TIFF-Dec-FB.jpg
END:VEVENT
END:VCALENDAR