BEGIN:VCALENDAR
VERSION:2.0
PRODID:-//Town of Hampton - ECPv6.15.18//NONSGML v1.0//EN
CALSCALE:GREGORIAN
METHOD:PUBLISH
X-WR-CALNAME:Town of Hampton
X-ORIGINAL-URL:https://hampton.ca
X-WR-CALDESC:Events for Town of Hampton
REFRESH-INTERVAL;VALUE=DURATION:PT1H
X-Robots-Tag:noindex
X-PUBLISHED-TTL:PT1H
BEGIN:VTIMEZONE
TZID:America/Halifax
BEGIN:DAYLIGHT
TZOFFSETFROM:-0400
TZOFFSETTO:-0300
TZNAME:ADT
DTSTART:20250309T060000
END:DAYLIGHT
BEGIN:STANDARD
TZOFFSETFROM:-0300
TZOFFSETTO:-0400
TZNAME:AST
DTSTART:20251102T050000
END:STANDARD
BEGIN:DAYLIGHT
TZOFFSETFROM:-0400
TZOFFSETTO:-0300
TZNAME:ADT
DTSTART:20260308T060000
END:DAYLIGHT
BEGIN:STANDARD
TZOFFSETFROM:-0300
TZOFFSETTO:-0400
TZNAME:AST
DTSTART:20261101T050000
END:STANDARD
BEGIN:DAYLIGHT
TZOFFSETFROM:-0400
TZOFFSETTO:-0300
TZNAME:ADT
DTSTART:20270314T060000
END:DAYLIGHT
BEGIN:STANDARD
TZOFFSETFROM:-0300
TZOFFSETTO:-0400
TZNAME:AST
DTSTART:20271107T050000
END:STANDARD
END:VTIMEZONE
BEGIN:VEVENT
DTSTART;TZID=America/Halifax:20260912T080000
DTEND;TZID=America/Halifax:20260912T170000
DTSTAMP:20260422T055524
CREATED:20260413T124006Z
LAST-MODIFIED:20260413T124224Z
UID:10006317-1789200000-1789232400@hampton.ca
SUMMARY:The Jamie Davis Memorial Golf Tournament in Support of Bobby's Hospice
DESCRIPTION:The 3rd Annual Jamie Davis Memorial Golf Tournament is happening at the Hampton Golf Club on September 12th! 100% of the proceeds will support Bobby’s Hospice. \n\n\n\nJamie Davis was a beloved husband\, father\, papa\, friend and active community member\, renowned for his kindness\, generosity and love for golf. As an avid golfer at the Hampton Golf Club\, Jamie dedicated countless hours to perfecting his swing and enjoying the camaraderie of fellow golfers. His love for golf was only surpassed by his commitment to positively impacting others. Jamie’s selfless nature and dedication to service left a lasting impression on all who knew him. The Jamie Davis Memorial Golf Tournament was created to honour his memory and carry on his legacy of giving back. This event celebrates Jamie’s love for golf while raising vital funds for Bobby’s Hospice\, ensuring that his spirit of kindness and generosity endures. Last year was a full house and raised over $16\,000 for this incredible organization\, which provides compassionate care that celebrates life. \n\n\n\nFor those interested in learning more about how they can get involved\, please email jamiedavismemorial@gmail.com.
URL:https://hampton.ca/event/the-jamie-davis-memorial-golf-tournament-in-support-of-bobbys-hospice/
LOCATION:Hampton Golf Course\, 68 William Bell Drive\, Hampton\, New Brunswick\, E5N 0L2\, Canada
CATEGORIES:Community Event
ATTACH;FMTTYPE=image/jpeg:https://hampton.ca/wp-content/uploads/2026/04/Golf-Tournament-Bobbys-Hospice.jpg
END:VEVENT
END:VCALENDAR