BEGIN:VCALENDAR
VERSION:2.0
PRODID:-//Town of Hampton - ECPv6.15.18//NONSGML v1.0//EN
CALSCALE:GREGORIAN
METHOD:PUBLISH
X-ORIGINAL-URL:https://hampton.ca
X-WR-CALDESC:Events for Town of Hampton
REFRESH-INTERVAL;VALUE=DURATION:PT1H
X-Robots-Tag:noindex
X-PUBLISHED-TTL:PT1H
BEGIN:VTIMEZONE
TZID:America/Halifax
BEGIN:DAYLIGHT
TZOFFSETFROM:-0400
TZOFFSETTO:-0300
TZNAME:ADT
DTSTART:20250309T060000
END:DAYLIGHT
BEGIN:STANDARD
TZOFFSETFROM:-0300
TZOFFSETTO:-0400
TZNAME:AST
DTSTART:20251102T050000
END:STANDARD
BEGIN:DAYLIGHT
TZOFFSETFROM:-0400
TZOFFSETTO:-0300
TZNAME:ADT
DTSTART:20260308T060000
END:DAYLIGHT
BEGIN:STANDARD
TZOFFSETFROM:-0300
TZOFFSETTO:-0400
TZNAME:AST
DTSTART:20261101T050000
END:STANDARD
BEGIN:DAYLIGHT
TZOFFSETFROM:-0400
TZOFFSETTO:-0300
TZNAME:ADT
DTSTART:20270314T060000
END:DAYLIGHT
BEGIN:STANDARD
TZOFFSETFROM:-0300
TZOFFSETTO:-0400
TZNAME:AST
DTSTART:20271107T050000
END:STANDARD
END:VTIMEZONE
BEGIN:VEVENT
DTSTART;TZID=America/Halifax:20260731T170000
DTEND;TZID=America/Halifax:20260731T200000
DTSTAMP:20260421T224758
CREATED:20260408T151446Z
LAST-MODIFIED:20260408T151508Z
UID:10006308-1785517200-1785528000@hampton.ca
SUMMARY:Hampton’s Summer Market
DESCRIPTION:We’re back and gearing up for an exciting 2026 Hampton Market season\, featuring a variety of local products\, crafts\, music\, and more in Town Square! \n\n\n\nThe market will return on Fridays from 5:00PM to 8:00PM\, in Town Square\, 647 Main Street\, from opening night on July 10th through to August 28th. Our event is rain or shine (except in unsafe conditions\, such as lightning). \n\n\n\nFollow us on Facebook or Instagram for the lineup of vendors each week & updates!
URL:https://hampton.ca/event/hamptons-summer-market/2026-07-31/
LOCATION:Hampton Town Square\, 657 Main Street\, Hampton\, New Brunswick\, E5N 6C6\, Canada
CATEGORIES:Community Event
ATTACH;FMTTYPE=image/jpeg:https://hampton.ca/wp-content/uploads/2026/04/2025-Hampton-Market-Schedule-FB.jpg
END:VEVENT
END:VCALENDAR