BEGIN:VCALENDAR
VERSION:2.0
PRODID:-//Town of Hampton - ECPv6.15.18//NONSGML v1.0//EN
CALSCALE:GREGORIAN
METHOD:PUBLISH
X-WR-CALNAME:Town of Hampton
X-ORIGINAL-URL:https://hampton.ca
X-WR-CALDESC:Events for Town of Hampton
REFRESH-INTERVAL;VALUE=DURATION:PT1H
X-Robots-Tag:noindex
X-PUBLISHED-TTL:PT1H
BEGIN:VTIMEZONE
TZID:America/Halifax
BEGIN:DAYLIGHT
TZOFFSETFROM:-0400
TZOFFSETTO:-0300
TZNAME:ADT
DTSTART:20250309T060000
END:DAYLIGHT
BEGIN:STANDARD
TZOFFSETFROM:-0300
TZOFFSETTO:-0400
TZNAME:AST
DTSTART:20251102T050000
END:STANDARD
BEGIN:DAYLIGHT
TZOFFSETFROM:-0400
TZOFFSETTO:-0300
TZNAME:ADT
DTSTART:20260308T060000
END:DAYLIGHT
BEGIN:STANDARD
TZOFFSETFROM:-0300
TZOFFSETTO:-0400
TZNAME:AST
DTSTART:20261101T050000
END:STANDARD
BEGIN:DAYLIGHT
TZOFFSETFROM:-0400
TZOFFSETTO:-0300
TZNAME:ADT
DTSTART:20270314T060000
END:DAYLIGHT
BEGIN:STANDARD
TZOFFSETFROM:-0300
TZOFFSETTO:-0400
TZNAME:AST
DTSTART:20271107T050000
END:STANDARD
END:VTIMEZONE
BEGIN:VEVENT
DTSTART;TZID=America/Halifax:20260724T170000
DTEND;TZID=America/Halifax:20260724T200000
DTSTAMP:20260421T224548
CREATED:20260408T151446Z
LAST-MODIFIED:20260408T151508Z
UID:10006307-1784912400-1784923200@hampton.ca
SUMMARY:Hampton’s Summer Market
DESCRIPTION:We’re back and gearing up for an exciting 2026 Hampton Market season\, featuring a variety of local products\, crafts\, music\, and more in Town Square! \n\n\n\nThe market will return on Fridays from 5:00PM to 8:00PM\, in Town Square\, 647 Main Street\, from opening night on July 10th through to August 28th. Our event is rain or shine (except in unsafe conditions\, such as lightning). \n\n\n\nFollow us on Facebook or Instagram for the lineup of vendors each week & updates!
URL:https://hampton.ca/event/hamptons-summer-market/2026-07-24/
LOCATION:Hampton Town Square\, 657 Main Street\, Hampton\, New Brunswick\, E5N 6C6\, Canada
CATEGORIES:Community Event
ATTACH;FMTTYPE=image/jpeg:https://hampton.ca/wp-content/uploads/2026/04/2025-Hampton-Market-Schedule-FB.jpg
END:VEVENT
BEGIN:VEVENT
DTSTART;TZID=America/Halifax:20260726T183000
DTEND;TZID=America/Halifax:20260726T200000
DTSTAMP:20260421T224548
CREATED:20260401T190924Z
LAST-MODIFIED:20260401T191114Z
UID:10006292-1785090600-1785096000@hampton.ca
SUMMARY:Hampton Summer Concerts
DESCRIPTION:Enjoy live music all summer long at the Hampton Summer Concert Series.  \n\n\n\nShowcasing talented local performers and a variety of musical genres\, these free community concerts take place every Sunday beginning June 28th through August 23rd at the Town Square Pavilion\, 657 Main Street. \n\n\n\n\nPlease note there will be no concert on August 2nd due to the long weekend. \n\n\n\n\nIn the event of inclement weather\, concerts will move indoors to the Mike Murphy Memorial Field House\, 808 Main Street.  \n\n\n\nBring a chair\, relax\, and enjoy an evening of great music in the heart of Hampton!
URL:https://hampton.ca/event/hampton-summer-concerts/2026-07-26/
LOCATION:Town Square Pavilion\, 657 Main Street\, Hampton\, Canada
CATEGORIES:Community Event
ATTACH;FMTTYPE=image/jpeg:https://hampton.ca/wp-content/uploads/2026/04/Summer-Concert-Series-Aframe-scaled.jpg
END:VEVENT
END:VCALENDAR