BEGIN:VCALENDAR
VERSION:2.0
PRODID:-//Town of Hampton - ECPv6.15.18//NONSGML v1.0//EN
CALSCALE:GREGORIAN
METHOD:PUBLISH
X-ORIGINAL-URL:https://hampton.ca
X-WR-CALDESC:Events for Town of Hampton
REFRESH-INTERVAL;VALUE=DURATION:PT1H
X-Robots-Tag:noindex
X-PUBLISHED-TTL:PT1H
BEGIN:VTIMEZONE
TZID:America/Halifax
BEGIN:DAYLIGHT
TZOFFSETFROM:-0400
TZOFFSETTO:-0300
TZNAME:ADT
DTSTART:20250309T060000
END:DAYLIGHT
BEGIN:STANDARD
TZOFFSETFROM:-0300
TZOFFSETTO:-0400
TZNAME:AST
DTSTART:20251102T050000
END:STANDARD
BEGIN:DAYLIGHT
TZOFFSETFROM:-0400
TZOFFSETTO:-0300
TZNAME:ADT
DTSTART:20260308T060000
END:DAYLIGHT
BEGIN:STANDARD
TZOFFSETFROM:-0300
TZOFFSETTO:-0400
TZNAME:AST
DTSTART:20261101T050000
END:STANDARD
BEGIN:DAYLIGHT
TZOFFSETFROM:-0400
TZOFFSETTO:-0300
TZNAME:ADT
DTSTART:20270314T060000
END:DAYLIGHT
BEGIN:STANDARD
TZOFFSETFROM:-0300
TZOFFSETTO:-0400
TZNAME:AST
DTSTART:20271107T050000
END:STANDARD
END:VTIMEZONE
BEGIN:VEVENT
DTSTART;TZID=America/Halifax:20260506T100000
DTEND;TZID=America/Halifax:20260506T103000
DTSTAMP:20260421T213559
CREATED:20260401T180418Z
LAST-MODIFIED:20260401T180419Z
UID:10006273-1778061600-1778063400@hampton.ca
SUMMARY:Free Qigong Classes
DESCRIPTION:Take time to relax\, stretch\, and recharge with a free 30-minute Qigong class hosted at the Masonic Lodge at 6 Church Street. Qigong is a gentle practice that combines movement\, breathing\, and mindfulness to support balance\, relaxation\, and overall well-being\, and is suitable for all ages and experience levels. \n\n\n\nThis weekly class runs until May 13th and is supported by the Nursing Home Without Walls organization. All are welcome to attend and enjoy a calm\, welcoming space focused on movement and wellness.
URL:https://hampton.ca/event/free-qigong-classes/2026-05-06/
LOCATION:Corinthian Lodge #13 Masonic Lodge\, 6 Church Street\, Hampton\, NB
CATEGORIES:Community Event
END:VEVENT
BEGIN:VEVENT
DTSTART;TZID=America/Halifax:20260506T110000
DTEND;TZID=America/Halifax:20260506T120000
DTSTAMP:20260421T213559
CREATED:20260401T180938Z
LAST-MODIFIED:20260401T180939Z
UID:10006279-1778065200-1778068800@hampton.ca
SUMMARY:Optimal Aging Video Workshops
DESCRIPTION:Staying healthy\, active\, and safe as you age is important for every older adult.  \n\n\n\nJoin our interactive workshops featuring video demonstrations and lively discussions\, where you’ll discover practical strategies to support your well-being. Participants will learn exercises designed toimprove mobility and strength\, techniques for effective stress management\, and tips for creatinga safer home environment. You’ll walk away with useful tools and knowledge you can apply everyday to help you age with confidence and vitality. \n\n\n\nThis is a 6-week program\, running from April 8th to May 13th\, from 11AM to 12PM. Call Paulette Haines\, the facilitator at 506-636-0079\, for more information.  \n\n\n\nWorkshop Topics: \n\n\n\nApril 8: Get Up Stand Up (falls recovery)April 15: Preserving Muscle MassApril 22: Cultivating HappinessApril 29: Building ResiliencyMay 5: Bone HealthMay 13: Creating & Maintaining New Habits
URL:https://hampton.ca/event/optimal-aging-video-workshops/2026-05-06/
LOCATION:Corinthian Lodge #13 Masonic Lodge\, 6 Church Street\, Hampton\, NB
CATEGORIES:Community Event
END:VEVENT
END:VCALENDAR