BEGIN:VCALENDAR
VERSION:2.0
PRODID:-//Town of Hampton - ECPv6.15.18//NONSGML v1.0//EN
CALSCALE:GREGORIAN
METHOD:PUBLISH
X-ORIGINAL-URL:https://hampton.ca
X-WR-CALDESC:Events for Town of Hampton
REFRESH-INTERVAL;VALUE=DURATION:PT1H
X-Robots-Tag:noindex
X-PUBLISHED-TTL:PT1H
BEGIN:VTIMEZONE
TZID:America/Halifax
BEGIN:DAYLIGHT
TZOFFSETFROM:-0400
TZOFFSETTO:-0300
TZNAME:ADT
DTSTART:20250309T060000
END:DAYLIGHT
BEGIN:STANDARD
TZOFFSETFROM:-0300
TZOFFSETTO:-0400
TZNAME:AST
DTSTART:20251102T050000
END:STANDARD
BEGIN:DAYLIGHT
TZOFFSETFROM:-0400
TZOFFSETTO:-0300
TZNAME:ADT
DTSTART:20260308T060000
END:DAYLIGHT
BEGIN:STANDARD
TZOFFSETFROM:-0300
TZOFFSETTO:-0400
TZNAME:AST
DTSTART:20261101T050000
END:STANDARD
BEGIN:DAYLIGHT
TZOFFSETFROM:-0400
TZOFFSETTO:-0300
TZNAME:ADT
DTSTART:20270314T060000
END:DAYLIGHT
BEGIN:STANDARD
TZOFFSETFROM:-0300
TZOFFSETTO:-0400
TZNAME:AST
DTSTART:20271107T050000
END:STANDARD
END:VTIMEZONE
BEGIN:VEVENT
DTSTART;TZID=America/Halifax:20260619T200000
DTEND;TZID=America/Halifax:20260619T220000
DTSTAMP:20260421T201632
CREATED:20260401T184333Z
LAST-MODIFIED:20260401T184334Z
UID:10006285-1781899200-1781906400@hampton.ca
SUMMARY:Summer Pool Movies - Lilo & Stitch
DESCRIPTION:Summer Movies at the Pool are back for the 2026 season at the Hampton Community Pool (808 Main Street). Join us for one movie each month in June\, July\, & August and enjoy a fun night of entertainment with family and friends. \n\n\n\nThis month’s feature is “Lilo & Stitch” live-action.  \n\n\n\nAdmission is available at our regular program drop-in rates: $3.00 for ages 15–54\, $2.50 for ages 6–14\, $2.00 for ages 55+\, and free for children 5 and under.  \n\n\n\nBring your friends\, bring your family\, and don’t forget your favourite floatie to relax and enjoy the show. It’s the perfect way to make the most of summer evenings right here in Hampton.
URL:https://hampton.ca/event/summer-pool-movies-lilo-stitch/
LOCATION:Hampton Community Pool\, 808 Main Street\, Hampton\, New Brunswick\, E5N 6E4\, Canada
CATEGORIES:Community Event
ATTACH;FMTTYPE=image/jpeg:https://hampton.ca/wp-content/uploads/2026/04/LILO-STITCH.jpg
END:VEVENT
END:VCALENDAR