BEGIN:VCALENDAR
VERSION:2.0
PRODID:-//Town of Hampton - ECPv6.15.18//NONSGML v1.0//EN
CALSCALE:GREGORIAN
METHOD:PUBLISH
X-ORIGINAL-URL:https://hampton.ca
X-WR-CALDESC:Events for Town of Hampton
REFRESH-INTERVAL;VALUE=DURATION:PT1H
X-Robots-Tag:noindex
X-PUBLISHED-TTL:PT1H
BEGIN:VTIMEZONE
TZID:America/Halifax
BEGIN:DAYLIGHT
TZOFFSETFROM:-0400
TZOFFSETTO:-0300
TZNAME:ADT
DTSTART:20250309T060000
END:DAYLIGHT
BEGIN:STANDARD
TZOFFSETFROM:-0300
TZOFFSETTO:-0400
TZNAME:AST
DTSTART:20251102T050000
END:STANDARD
BEGIN:DAYLIGHT
TZOFFSETFROM:-0400
TZOFFSETTO:-0300
TZNAME:ADT
DTSTART:20260308T060000
END:DAYLIGHT
BEGIN:STANDARD
TZOFFSETFROM:-0300
TZOFFSETTO:-0400
TZNAME:AST
DTSTART:20261101T050000
END:STANDARD
BEGIN:DAYLIGHT
TZOFFSETFROM:-0400
TZOFFSETTO:-0300
TZNAME:ADT
DTSTART:20270314T060000
END:DAYLIGHT
BEGIN:STANDARD
TZOFFSETFROM:-0300
TZOFFSETTO:-0400
TZNAME:AST
DTSTART:20271107T050000
END:STANDARD
END:VTIMEZONE
BEGIN:VEVENT
DTSTART;TZID=America/Halifax:20260418T100000
DTEND;TZID=America/Halifax:20260418T120000
DTSTAMP:20260421T171853
CREATED:20260409T120040Z
LAST-MODIFIED:20260409T120041Z
UID:10006315-1776506400-1776513600@hampton.ca
SUMMARY:Spring & Summer Clothing Drive for the Hampton Food Basket
DESCRIPTION:The Hampton Food Basket is hosting a Spring and Summer Clothing Drive and invites community members to help support local families in need. \n\n\n\nDonations of clean\, gently used clothing\, footwear\, and accessories for all ages are welcome. Bedding and towels are also gratefully accepted. \n\n\n\nDonation Drop-Off Dates:Saturday\, April 11 | 10:00 a.m. – 12:00 p.m.Saturday\, April 18 | 10:00 a.m. – 12:00 p.m. \n\n\n\nYour contributions help ensure individuals and families in our community have access to essential items as the warmer seasons approach. \n\n\n\nFor more information or questions\, please call 506-333-1651.
URL:https://hampton.ca/event/spring-summer-clothing-drive-for-the-hampton-food-basket/2026-04-18/
LOCATION:Hampton Food Basket\, 39 Tilley Street\, Hampton\, New Brunswick\, E5N 5B4\, Canada
CATEGORIES:Community Event
END:VEVENT
BEGIN:VEVENT
DTSTART;TZID=America/Halifax:20260418T100000
DTEND;TZID=America/Halifax:20260418T130000
DTSTAMP:20260421T171853
CREATED:20260401T175825Z
LAST-MODIFIED:20260401T175826Z
UID:10006267-1776506400-1776517200@hampton.ca
SUMMARY:Community Expo
DESCRIPTION:Join us on April 18th from 10AM to 1PM at the Mike Murphy Memorial Field House at 808 Main Street for our Community Expo! \n\n\n\nFind out all the ways you can get involved right here in our community\, whether you’re looking to volunteer\, join a local sports team\, explore wellness opportunities\, or connect with community groups. Meet representatives from local organizations\, learn about programs\, services\, and discover new ways to stay active\, engaged\, and connected.  \n\n\n\nSee you there!
URL:https://hampton.ca/event/community-expo/
LOCATION:Mike Murphy Memorial Field House\, 808 Main Street\, Hampton\, New Brunswick\, E5N 6E1\, Canada
CATEGORIES:Community Event
ATTACH;FMTTYPE=image/jpeg:https://hampton.ca/wp-content/uploads/2026/04/Community-Expo-FB.jpg
END:VEVENT
END:VCALENDAR