BEGIN:VCALENDAR
VERSION:2.0
PRODID:-//Town of Hampton - ECPv6.15.18//NONSGML v1.0//EN
CALSCALE:GREGORIAN
METHOD:PUBLISH
X-ORIGINAL-URL:https://hampton.ca
X-WR-CALDESC:Events for Town of Hampton
REFRESH-INTERVAL;VALUE=DURATION:PT1H
X-Robots-Tag:noindex
X-PUBLISHED-TTL:PT1H
BEGIN:VTIMEZONE
TZID:America/Halifax
BEGIN:DAYLIGHT
TZOFFSETFROM:-0400
TZOFFSETTO:-0300
TZNAME:ADT
DTSTART:20240310T060000
END:DAYLIGHT
BEGIN:STANDARD
TZOFFSETFROM:-0300
TZOFFSETTO:-0400
TZNAME:AST
DTSTART:20241103T050000
END:STANDARD
BEGIN:DAYLIGHT
TZOFFSETFROM:-0400
TZOFFSETTO:-0300
TZNAME:ADT
DTSTART:20250309T060000
END:DAYLIGHT
BEGIN:STANDARD
TZOFFSETFROM:-0300
TZOFFSETTO:-0400
TZNAME:AST
DTSTART:20251102T050000
END:STANDARD
BEGIN:DAYLIGHT
TZOFFSETFROM:-0400
TZOFFSETTO:-0300
TZNAME:ADT
DTSTART:20260308T060000
END:DAYLIGHT
BEGIN:STANDARD
TZOFFSETFROM:-0300
TZOFFSETTO:-0400
TZNAME:AST
DTSTART:20261101T050000
END:STANDARD
END:VTIMEZONE
BEGIN:VEVENT
DTSTART;TZID=America/Halifax:20250925T090000
DTEND;TZID=America/Halifax:20250925T100000
DTSTAMP:20260422T040544
CREATED:20250828T204506Z
LAST-MODIFIED:20250828T204506Z
UID:10006163-1758790800-1758794400@hampton.ca
SUMMARY:Roller Skate
DESCRIPTION:The wheeled version of public skate! Bring your roller blades/skates down to the field house and go for a skate! \n\n\n\nNo sticks/balls permitted \n\n\n\nSign up in advance with Amilia! Create an account and check out the activities happening at the Field House with the link here: https://app.amilia.com/store/en/hampton/shop/programs
URL:https://hampton.ca/event/roller-skate-22/2025-09-25/
LOCATION:Mike Murphy Memorial Field House\, 808 Main Street\, Hampton\, New Brunswick\, E5N 6E1\, Canada
CATEGORIES:Community Event
END:VEVENT
BEGIN:VEVENT
DTSTART;TZID=America/Halifax:20250925T120000
DTEND;TZID=America/Halifax:20250925T130000
DTSTAMP:20260422T040544
CREATED:20250828T204634Z
LAST-MODIFIED:20250828T204634Z
UID:10006167-1758801600-1758805200@hampton.ca
SUMMARY:Open Gym
DESCRIPTION:Drop in and play at the field house! A variety of sports equipment will be out for all ages\, and our staff person can help with getting set up if needed. Participants are welcome to bring their own sports equipment to play with. \n\n\n\nSign up in advance with Amilia! Create an account and check out the activities happening at the Field House with the link here: https://app.amilia.com/store/en/hampton/shop/programs
URL:https://hampton.ca/event/open-gym-62/2025-09-25/
LOCATION:Mike Murphy Memorial Field House\, 808 Main Street\, Hampton\, New Brunswick\, E5N 6E1\, Canada
CATEGORIES:Community Event
END:VEVENT
BEGIN:VEVENT
DTSTART;TZID=America/Halifax:20250925T140000
DTEND;TZID=America/Halifax:20250925T150000
DTSTAMP:20260422T040544
CREATED:20250828T204804Z
LAST-MODIFIED:20250828T204804Z
UID:10006171-1758808800-1758812400@hampton.ca
SUMMARY:Seniors Social
DESCRIPTION:Drop in at the field house and play! Take a turn around the floor in your running shoes or roller skates\, play one of our lawn games\, or enjoy a pickleball match with friends. All sports and lawn game equipment is available\, and you can walk around the edge of the floor\, so bring a friend and come move with us! \n\n\n\nSign up in advance with Amilia! Create an account and check out the activities happening at the Field House with the link here: https://app.amilia.com/store/en/hampton/shop/programs
URL:https://hampton.ca/event/seniors-social-2/2025-09-25/
LOCATION:Mike Murphy Memorial Field House\, 808 Main Street\, Hampton\, New Brunswick\, E5N 6E1\, Canada
CATEGORIES:Community Event
END:VEVENT
BEGIN:VEVENT
DTSTART;TZID=America/Halifax:20250925T150000
DTEND;TZID=America/Halifax:20250925T160000
DTSTAMP:20260422T040544
CREATED:20250828T204947Z
LAST-MODIFIED:20250828T204947Z
UID:10006175-1758812400-1758816000@hampton.ca
SUMMARY:Middle School Gym
DESCRIPTION:Drop in and play at the field house! This recreation activity is for grades 6 to 8 (Ages 12-14). A variety of sports equipment will be out\, and our staff person can help with getting set up if needed. Participants are welcome to bring their own sports equipment to play with. \n\n\n\nA staff person will be interacting on the gym floor once check-in is complete. People outside the target age may attend\, provided they respect the intent of the program and are accompanied by an adult if their age requires it. \n\n\n\nSign up in advance with Amilia! Create an account and check out the activities happening at the Field House with the link here: https://app.amilia.com/store/en/hampton/shop/programs
URL:https://hampton.ca/event/middle-school-gym-42/2025-09-25/
LOCATION:Mike Murphy Memorial Field House\, 808 Main Street\, Hampton\, New Brunswick\, E5N 6E1\, Canada
CATEGORIES:Community Event
END:VEVENT
BEGIN:VEVENT
DTSTART;TZID=America/Halifax:20250925T161500
DTEND;TZID=America/Halifax:20250925T171500
DTSTAMP:20260422T040544
CREATED:20250828T205124Z
LAST-MODIFIED:20250828T205124Z
UID:10006179-1758816900-1758820500@hampton.ca
SUMMARY:Open Gym
DESCRIPTION:Drop in and play at the field house! A variety of sports equipment will be out for all ages\, and our staff person can help with getting set up if needed. Participants are welcome to bring their own sports equipment to play with. \n\n\n\nSign up in advance with Amilia! Create an account and check out the activities happening at the Field House with the link here: https://app.amilia.com/store/en/hampton/shop/programs
URL:https://hampton.ca/event/open-gym-63/2025-09-25/
LOCATION:Mike Murphy Memorial Field House\, 808 Main Street\, Hampton\, New Brunswick\, E5N 6E1\, Canada
CATEGORIES:Community Event
END:VEVENT
BEGIN:VEVENT
DTSTART;TZID=America/Halifax:20250925T171500
DTEND;TZID=America/Halifax:20250925T181500
DTSTAMP:20260422T040544
CREATED:20250828T205303Z
LAST-MODIFIED:20250828T205303Z
UID:10006183-1758820500-1758824100@hampton.ca
SUMMARY:Club 4/5
DESCRIPTION:Drop in and play at the field house! A variety of sports equipment will be out and our staff person can help with getting set up if needed. Participants are welcome to bring their own sports equipment to play with. \n\n\n\nStaff person will be interacting on the gym floor once check-in is complete. People outside the target age may attend\, provided they respect the intent of the program and are accompanied by an adult if their age requires it.  \n\n\n\nSign up in advance with Amilia! Create an account and check out the activities happening at the Field House with the link here: https://app.amilia.com/store/en/hampton/shop/programs
URL:https://hampton.ca/event/club-4-5-2/2025-09-25/
LOCATION:Mike Murphy Memorial Field House\, 808 Main Street\, Hampton\, New Brunswick\, E5N 6E1\, Canada
CATEGORIES:Community Event
END:VEVENT
BEGIN:VEVENT
DTSTART;TZID=America/Halifax:20250925T183000
DTEND;TZID=America/Halifax:20250925T200000
DTSTAMP:20260422T040544
CREATED:20250828T205436Z
LAST-MODIFIED:20250828T205436Z
UID:10006187-1758825000-1758830400@hampton.ca
SUMMARY:Soccer
DESCRIPTION:Drop in at the field house and play! No equipment required! \n\n\n\nSign up in advance with Amilia! Create an account and check out the activities happening at the Field House with the link here: https://app.amilia.com/store/en/hampton/shop/programs
URL:https://hampton.ca/event/soccer-5/2025-09-25/
LOCATION:Mike Murphy Memorial Field House\, 808 Main Street\, Hampton\, New Brunswick\, E5N 6E1\, Canada
CATEGORIES:Community Event
END:VEVENT
END:VCALENDAR