BEGIN:VCALENDAR
VERSION:2.0
PRODID:-//Town of Hampton - ECPv6.15.18//NONSGML v1.0//EN
CALSCALE:GREGORIAN
METHOD:PUBLISH
X-WR-CALNAME:Town of Hampton
X-ORIGINAL-URL:https://hampton.ca
X-WR-CALDESC:Events for Town of Hampton
REFRESH-INTERVAL;VALUE=DURATION:PT1H
X-Robots-Tag:noindex
X-PUBLISHED-TTL:PT1H
BEGIN:VTIMEZONE
TZID:America/Halifax
BEGIN:DAYLIGHT
TZOFFSETFROM:-0400
TZOFFSETTO:-0300
TZNAME:ADT
DTSTART:20240310T060000
END:DAYLIGHT
BEGIN:STANDARD
TZOFFSETFROM:-0300
TZOFFSETTO:-0400
TZNAME:AST
DTSTART:20241103T050000
END:STANDARD
BEGIN:DAYLIGHT
TZOFFSETFROM:-0400
TZOFFSETTO:-0300
TZNAME:ADT
DTSTART:20250309T060000
END:DAYLIGHT
BEGIN:STANDARD
TZOFFSETFROM:-0300
TZOFFSETTO:-0400
TZNAME:AST
DTSTART:20251102T050000
END:STANDARD
BEGIN:DAYLIGHT
TZOFFSETFROM:-0400
TZOFFSETTO:-0300
TZNAME:ADT
DTSTART:20260308T060000
END:DAYLIGHT
BEGIN:STANDARD
TZOFFSETFROM:-0300
TZOFFSETTO:-0400
TZNAME:AST
DTSTART:20261101T050000
END:STANDARD
END:VTIMEZONE
BEGIN:VEVENT
DTSTART;TZID=America/Halifax:20250910T100000
DTEND;TZID=America/Halifax:20250910T113000
DTSTAMP:20260422T040308
CREATED:20250828T203247Z
LAST-MODIFIED:20250828T203247Z
UID:10006137-1757498400-1757503800@hampton.ca
SUMMARY:Pickleball & Tennis
DESCRIPTION:Drop in at the field house and play! Bring your own equipment or borrow ours. Be prepared to play a variety of players and rotate courts after each game if numbers dictate. \n\n\n\nSign up in advance with Amilia! Create an account and check out the activities happening at the Field House with the link here: https://app.amilia.com/store/en/hampton/shop/programs
URL:https://hampton.ca/event/pickleball-tennis-19/2025-09-10/
LOCATION:Mike Murphy Memorial Field House\, 808 Main Street\, Hampton\, New Brunswick\, E5N 6E1\, Canada
CATEGORIES:Community Event
END:VEVENT
BEGIN:VEVENT
DTSTART;TZID=America/Halifax:20250910T120000
DTEND;TZID=America/Halifax:20250910T130000
DTSTAMP:20260422T040308
CREATED:20250828T203416Z
LAST-MODIFIED:20250828T203416Z
UID:10006141-1757505600-1757509200@hampton.ca
SUMMARY:Open Gym
DESCRIPTION:Drop in and play at the field house! A variety of sports equipment will be out for all ages\, and our staff person can help with getting set up if needed. Participants are welcome to bring their own sports equipment to play with. \n\n\n\nSign up in advance with Amilia! Create an account and check out the activities happening at the Field House with the link here: https://app.amilia.com/store/en/hampton/shop/programs
URL:https://hampton.ca/event/open-gym-60/2025-09-10/
LOCATION:Mike Murphy Memorial Field House\, 808 Main Street\, Hampton\, New Brunswick\, E5N 6E1\, Canada
CATEGORIES:Community Event
END:VEVENT
BEGIN:VEVENT
DTSTART;TZID=America/Halifax:20250910T150000
DTEND;TZID=America/Halifax:20250910T160000
DTSTAMP:20260422T040308
CREATED:20250828T203645Z
LAST-MODIFIED:20250828T203645Z
UID:10006145-1757516400-1757520000@hampton.ca
SUMMARY:Middle School Gym
DESCRIPTION:Drop in and play at the field house! This recreation activity is for grades 6 to 8 (Ages 12-14). A variety of sports equipment will be out\, and our staff person can help with getting set up if needed. Participants are welcome to bring their own sports equipment to play with. \n\n\n\nA staff person will be interacting on the gym floor once check-in is complete. People outside the target age may attend\, provided they respect the intent of the program and are accompanied by an adult if their age requires it. \n\n\n\nSign up in advance with Amilia! Create an account and check out the activities happening at the Field House with the link here: https://app.amilia.com/store/en/hampton/shop/programs
URL:https://hampton.ca/event/middle-school-gym-41/2025-09-10/
LOCATION:Mike Murphy Memorial Field House\, 808 Main Street\, Hampton\, New Brunswick\, E5N 6E1\, Canada
CATEGORIES:Community Event
END:VEVENT
BEGIN:VEVENT
DTSTART;TZID=America/Halifax:20250910T161500
DTEND;TZID=America/Halifax:20250910T171500
DTSTAMP:20260422T040308
CREATED:20250828T203824Z
LAST-MODIFIED:20250828T203824Z
UID:10006149-1757520900-1757524500@hampton.ca
SUMMARY:Open Gym
DESCRIPTION:Drop in and play at the field house! A variety of sports equipment will be out for all ages\, and our staff person can help with getting set up if needed. Participants are welcome to bring their own sports equipment to play with. \n\n\n\nSign up in advance with Amilia! Create an account and check out the activities happening at the Field House with the link here: https://app.amilia.com/store/en/hampton/shop/programs
URL:https://hampton.ca/event/open-gym-61/2025-09-10/
LOCATION:Mike Murphy Memorial Field House\, 808 Main Street\, Hampton\, New Brunswick\, E5N 6E1\, Canada
CATEGORIES:Community Event
END:VEVENT
BEGIN:VEVENT
DTSTART;TZID=America/Halifax:20250910T173000
DTEND;TZID=America/Halifax:20250910T190000
DTSTAMP:20260422T040308
CREATED:20250828T203957Z
LAST-MODIFIED:20250828T203957Z
UID:10006153-1757525400-1757530800@hampton.ca
SUMMARY:Badminton
DESCRIPTION:Drop in at the field house and play! Bring your own equipment or borrow ours. Be prepared to play a variety of players and rotate courts after each game if numbers dictate. \n\n\n\nSign up in advance with Amilia! Create an account and check out the activities happening at the Field House with the link here: https://app.amilia.com/store/en/hampton/shop/programs
URL:https://hampton.ca/event/badminton-3/2025-09-10/
LOCATION:Mike Murphy Memorial Field House\, 808 Main Street\, Hampton\, New Brunswick\, E5N 6E1\, Canada
CATEGORIES:Community Event
END:VEVENT
BEGIN:VEVENT
DTSTART;TZID=America/Halifax:20250910T190000
DTEND;TZID=America/Halifax:20250910T203000
DTSTAMP:20260422T040308
CREATED:20250828T204335Z
LAST-MODIFIED:20250828T204335Z
UID:10006157-1757530800-1757536200@hampton.ca
SUMMARY:Ball Hockey
DESCRIPTION:Drop in at the field house and play!  \n\n\n\nAges 15+.  \n\n\n\nBring your own stick. (Very limited sticks available to borrow.) \n\n\n\nSign up in advance with Amilia! Create an account and check out the activities happening at the Field House with the link here: https://app.amilia.com/store/en/hampton/shop/programs
URL:https://hampton.ca/event/ball-hockey-21/2025-09-10/
LOCATION:Mike Murphy Memorial Field House\, 808 Main Street\, Hampton\, New Brunswick\, E5N 6E1\, Canada
CATEGORIES:Community Event
END:VEVENT
BEGIN:VEVENT
DTSTART;TZID=America/Halifax:20250910T193000
DTEND;TZID=America/Halifax:20250910T203000
DTSTAMP:20260422T040308
CREATED:20250103T205720Z
LAST-MODIFIED:20250103T205720Z
UID:10004844-1757532600-1757536200@hampton.ca
SUMMARY:Lodge Night - Corinthian Lodge No. 13
DESCRIPTION:Join the Corinthian Lodge No. 13 for their monthly Lodge Night meeting. The Corinthian Lodge No. 13 also hold a Chase the Ace with other partners every other Tuesday at 7:30 PM.
URL:https://hampton.ca/event/lodge-night-corinthian-lodge-no-13-8/
LOCATION:Corinthian Lodge #13 Masonic Lodge\, 6 Church Street\, Hampton\, NB
CATEGORIES:Community Event
END:VEVENT
END:VCALENDAR