BEGIN:VCALENDAR
VERSION:2.0
PRODID:-//Town of Hampton - ECPv6.15.18//NONSGML v1.0//EN
CALSCALE:GREGORIAN
METHOD:PUBLISH
X-ORIGINAL-URL:https://hampton.ca
X-WR-CALDESC:Events for Town of Hampton
REFRESH-INTERVAL;VALUE=DURATION:PT1H
X-Robots-Tag:noindex
X-PUBLISHED-TTL:PT1H
BEGIN:VTIMEZONE
TZID:America/Halifax
BEGIN:DAYLIGHT
TZOFFSETFROM:-0400
TZOFFSETTO:-0300
TZNAME:ADT
DTSTART:20240310T060000
END:DAYLIGHT
BEGIN:STANDARD
TZOFFSETFROM:-0300
TZOFFSETTO:-0400
TZNAME:AST
DTSTART:20241103T050000
END:STANDARD
BEGIN:DAYLIGHT
TZOFFSETFROM:-0400
TZOFFSETTO:-0300
TZNAME:ADT
DTSTART:20250309T060000
END:DAYLIGHT
BEGIN:STANDARD
TZOFFSETFROM:-0300
TZOFFSETTO:-0400
TZNAME:AST
DTSTART:20251102T050000
END:STANDARD
BEGIN:DAYLIGHT
TZOFFSETFROM:-0400
TZOFFSETTO:-0300
TZNAME:ADT
DTSTART:20260308T060000
END:DAYLIGHT
BEGIN:STANDARD
TZOFFSETFROM:-0300
TZOFFSETTO:-0400
TZNAME:AST
DTSTART:20261101T050000
END:STANDARD
END:VTIMEZONE
BEGIN:VEVENT
DTSTART;TZID=America/Halifax:20250908T080000
DTEND;TZID=America/Halifax:20250908T170000
DTSTAMP:20260422T040412
CREATED:20250828T200209Z
LAST-MODIFIED:20250828T200209Z
UID:10006077-1757318400-1757350800@hampton.ca
SUMMARY:Pickleball & Tennis
DESCRIPTION:Drop in at the field house and play! Bring your own equipment or borrow ours. Be prepared to play a variety of players and rotate courts after each game if numbers dictate. \n\n\n\nSign up in advance with Amilia! Create an account and check out the activities happening at the Field House with the link here: https://app.amilia.com/store/en/hampton/shop/programs
URL:https://hampton.ca/event/pickleball-tennis-18/2025-09-08/
LOCATION:Mike Murphy Memorial Field House\, 808 Main Street\, Hampton\, New Brunswick\, E5N 6E1\, Canada
CATEGORIES:Community Event
END:VEVENT
BEGIN:VEVENT
DTSTART;TZID=America/Halifax:20250908T080000
DTEND;TZID=America/Halifax:20250908T170000
DTSTAMP:20260422T040412
CREATED:20250828T200357Z
LAST-MODIFIED:20250828T200357Z
UID:10006081-1757318400-1757350800@hampton.ca
SUMMARY:Open Gym
DESCRIPTION:Drop in and play at the field house! A variety of sports equipment will be out for all ages\, and our staff person can help with getting set up if needed. Participants are welcome to bring their own sports equipment to play with. \n\n\n\nSign up in advance with Amilia! Create an account and check out the activities happening at the Field House with the link here: https://app.amilia.com/store/en/hampton/shop/programs
URL:https://hampton.ca/event/open-gym-56/2025-09-08/
LOCATION:Mike Murphy Memorial Field House\, 808 Main Street\, Hampton\, New Brunswick\, E5N 6E1\, Canada
CATEGORIES:Community Event
END:VEVENT
BEGIN:VEVENT
DTSTART;TZID=America/Halifax:20250908T150000
DTEND;TZID=America/Halifax:20250908T160000
DTSTAMP:20260422T040412
CREATED:20250828T200542Z
LAST-MODIFIED:20250828T200542Z
UID:10006085-1757343600-1757347200@hampton.ca
SUMMARY:Middle School Gym
DESCRIPTION:Drop in and play at the field house! This recreation activity is for grades 6 to 8 (Ages 12-14). A variety of sports equipment will be out\, and our staff person can help with getting set up if needed. Participants are welcome to bring their own sports equipment to play with. \n\n\n\nA staff person will be interacting on the gym floor once check-in is complete. People outside the target age may attend\, provided they respect the intent of the program and are accompanied by an adult if their age requires it. \n\n\n\nSign up in advance with Amilia! Create an account and check out the activities happening at the Field House with the link here: https://app.amilia.com/store/en/hampton/shop/programs
URL:https://hampton.ca/event/middle-school-gym-39/2025-09-08/
LOCATION:Mike Murphy Memorial Field House\, 808 Main Street\, Hampton\, New Brunswick\, E5N 6E1\, Canada
CATEGORIES:Community Event
END:VEVENT
BEGIN:VEVENT
DTSTART;TZID=America/Halifax:20250908T161500
DTEND;TZID=America/Halifax:20250908T171500
DTSTAMP:20260422T040412
CREATED:20250828T200737Z
LAST-MODIFIED:20250828T200737Z
UID:10006089-1757348100-1757351700@hampton.ca
SUMMARY:Open Gym
DESCRIPTION:Drop in and play at the field house! A variety of sports equipment will be out for all ages\, and our staff person can help with getting set up if needed. Participants are welcome to bring their own sports equipment to play with. \n\n\n\nSign up in advance with Amilia! Create an account and check out the activities happening at the Field House with the link here: https://app.amilia.com/store/en/hampton/shop/programs
URL:https://hampton.ca/event/open-gym-57/2025-09-08/
LOCATION:Mike Murphy Memorial Field House\, 808 Main Street\, Hampton\, New Brunswick\, E5N 6E1\, Canada
CATEGORIES:Community Event
END:VEVENT
BEGIN:VEVENT
DTSTART;TZID=America/Halifax:20250908T173000
DTEND;TZID=America/Halifax:20250908T190000
DTSTAMP:20260422T040412
CREATED:20250828T200919Z
LAST-MODIFIED:20250828T200919Z
UID:10006093-1757352600-1757358000@hampton.ca
SUMMARY:Badminton
DESCRIPTION:Drop in at the field house and play! Bring your own equipment or borrow ours. Be prepared to play a variety of players and rotate courts after each game if numbers dictate. \n\n\n\nSign up in advance with Amilia! Create an account and check out the activities happening at the Field House with the link here: https://app.amilia.com/store/en/hampton/shop/programs
URL:https://hampton.ca/event/badminton-2/2025-09-08/
LOCATION:Mike Murphy Memorial Field House\, 808 Main Street\, Hampton\, New Brunswick\, E5N 6E1\, Canada
CATEGORIES:Community Event
END:VEVENT
BEGIN:VEVENT
DTSTART;TZID=America/Halifax:20250908T190000
DTEND;TZID=America/Halifax:20250908T203000
DTSTAMP:20260422T040412
CREATED:20250828T201112Z
LAST-MODIFIED:20250828T201112Z
UID:10006097-1757358000-1757363400@hampton.ca
SUMMARY:Kids Soccer
DESCRIPTION:Drop in at the field house and play! No equipment required! Please note this is for people aged 12 and under and must have adult supervision and assistance if needed. \n\n\n\nSign up in advance with Amilia! Create an account and check out the activities happening at the Field House with the link here: https://app.amilia.com/store/en/hampton/shop/programs
URL:https://hampton.ca/event/kids-soccer/2025-09-08/
LOCATION:Mike Murphy Memorial Field House\, 808 Main Street\, Hampton\, New Brunswick\, E5N 6E1\, Canada
CATEGORIES:Community Event
END:VEVENT
END:VCALENDAR