BEGIN:VCALENDAR
VERSION:2.0
PRODID:-//Town of Hampton - ECPv6.15.18//NONSGML v1.0//EN
CALSCALE:GREGORIAN
METHOD:PUBLISH
X-WR-CALNAME:Town of Hampton
X-ORIGINAL-URL:https://hampton.ca
X-WR-CALDESC:Events for Town of Hampton
REFRESH-INTERVAL;VALUE=DURATION:PT1H
X-Robots-Tag:noindex
X-PUBLISHED-TTL:PT1H
BEGIN:VTIMEZONE
TZID:America/Halifax
BEGIN:DAYLIGHT
TZOFFSETFROM:-0400
TZOFFSETTO:-0300
TZNAME:ADT
DTSTART:20240310T060000
END:DAYLIGHT
BEGIN:STANDARD
TZOFFSETFROM:-0300
TZOFFSETTO:-0400
TZNAME:AST
DTSTART:20241103T050000
END:STANDARD
BEGIN:DAYLIGHT
TZOFFSETFROM:-0400
TZOFFSETTO:-0300
TZNAME:ADT
DTSTART:20250309T060000
END:DAYLIGHT
BEGIN:STANDARD
TZOFFSETFROM:-0300
TZOFFSETTO:-0400
TZNAME:AST
DTSTART:20251102T050000
END:STANDARD
BEGIN:DAYLIGHT
TZOFFSETFROM:-0400
TZOFFSETTO:-0300
TZNAME:ADT
DTSTART:20260308T060000
END:DAYLIGHT
BEGIN:STANDARD
TZOFFSETFROM:-0300
TZOFFSETTO:-0400
TZNAME:AST
DTSTART:20261101T050000
END:STANDARD
END:VTIMEZONE
BEGIN:VEVENT
DTSTART;TZID=America/Halifax:20250816T083000
DTEND;TZID=America/Halifax:20250816T110000
DTSTAMP:20260422T053535
CREATED:20250811T214957Z
LAST-MODIFIED:20250903T203223Z
UID:10006072-1755333000-1755342000@hampton.ca
SUMMARY:Community Breakfast
DESCRIPTION:Visit the Hampton Curling Club with your friends and family from 8:30 AM to 11:00 AM. Price is $10 for adults & kids under 5 are free. Cash only.
URL:https://hampton.ca/event/community-breakfast/
LOCATION:Hampton Curling Club\, 48 Cemetery Road\, Hampton\, New Brunswick\, E5N 3B2\, Canada
CATEGORIES:Community Event
ATTACH;FMTTYPE=image/jpeg:https://hampton.ca/wp-content/uploads/2025/09/August-Commuity-Breakfast.jpg
END:VEVENT
BEGIN:VEVENT
DTSTART;TZID=America/Halifax:20250816T103000
DTEND;TZID=America/Halifax:20250816T113000
DTSTAMP:20260422T053535
CREATED:20250619T180955Z
LAST-MODIFIED:20250619T180955Z
UID:10005903-1755340200-1755343800@hampton.ca
SUMMARY:Family Gym
DESCRIPTION:Drop in and play at the field house! A variety of sports equipment will be out\, and our staff person can help with getting set up if needed. Participants are welcome to bring their own sports equipment to play with. \n\n\n\nThis activity focuses on the ages of 0-11 and their adults. Intergenerational play is encouraged. People outside the target age may attend\, provided they respect the intent of the program and are accompanied by an adult if their age requires it. \n\n\n\nSign up in advance with Amilia! Create an account and check out the activities happening at the Field House with the link here: Register for Programs | Hampton Store \n\n\n\nDrop In – Single Visits:Family (Max of 5 individuals from the same household): $10.00 Single: $3.00 Youth (Ages 6-14): $2.50 Senior (55+): $2.00 Ages 5 & Under: Free
URL:https://hampton.ca/event/family-gym-19/2025-08-16/
LOCATION:Mike Murphy Memorial Field House\, 808 Main Street\, Hampton\, New Brunswick\, E5N 6E1\, Canada
CATEGORIES:Community Event
END:VEVENT
BEGIN:VEVENT
DTSTART;TZID=America/Halifax:20250816T113000
DTEND;TZID=America/Halifax:20250816T130000
DTSTAMP:20260422T053535
CREATED:20250619T181111Z
LAST-MODIFIED:20250619T181111Z
UID:10005911-1755343800-1755349200@hampton.ca
SUMMARY:Pickleball & Tennis
DESCRIPTION:Drop in at the field house and play! Bring your own equipment or borrow ours. Be prepared to play a variety of players and rotate courts after each game if numbers dictate. \n\n\n\nSign up in advance with Amilia! Create an account and check out the activities happening at the Field House with the link here: Register for Programs | Hampton Store \n\n\n\nDrop In – Single Visits:Family (Max of 5 individuals from the same household): $10.00 Single: $3.00 Youth (Ages 6-14): $2.50 Senior (55+): $2.00 Ages 5 & Under: Free
URL:https://hampton.ca/event/pickleball-7/2025-08-16/
LOCATION:Mike Murphy Memorial Field House\, 808 Main Street\, Hampton\, New Brunswick\, E5N 6E1\, Canada
CATEGORIES:Community Event
END:VEVENT
BEGIN:VEVENT
DTSTART;TZID=America/Halifax:20250816T130000
DTEND;TZID=America/Halifax:20250816T143000
DTSTAMP:20260422T053535
CREATED:20250619T181225Z
LAST-MODIFIED:20250619T181225Z
UID:10005919-1755349200-1755354600@hampton.ca
SUMMARY:Badminton & Tennis
DESCRIPTION:Drop in at the field house and play! Bring your own equipment or borrow ours. Be prepared to play a variety of players and rotate courts after each game if numbers dictate. \n\n\n\nSign up in advance with Amilia! Create an account and check out the activities happening at the Field House with the link here: Register for Programs | Hampton Store \n\n\n\nDrop In – Single Visits:Family (Max of 5 individuals from the same household): $10.00 Single: $3.00 Youth (Ages 6-14): $2.50 Senior (55+): $2.00 Ages 5 & Under: Free
URL:https://hampton.ca/event/badminton/2025-08-16/
LOCATION:Mike Murphy Memorial Field House\, 808 Main Street\, Hampton\, New Brunswick\, E5N 6E1\, Canada
CATEGORIES:Community Event
END:VEVENT
BEGIN:VEVENT
DTSTART;TZID=America/Halifax:20250816T143000
DTEND;TZID=America/Halifax:20250816T153000
DTSTAMP:20260422T053535
CREATED:20250619T181344Z
LAST-MODIFIED:20250619T181344Z
UID:10005927-1755354600-1755358200@hampton.ca
SUMMARY:Open Gym
DESCRIPTION:Drop in and play at the field house! A variety of sports equipment will be out for all ages\, and our staff person can help with getting set up if needed. Participants are welcome to bring their own sports equipment to play with. \n\n\n\nSign up in advance with Amilia! Create an account and check out the activities happening at the Field House with the link here: Register for Programs | Hampton Store \n\n\n\nDrop In – Single Visits:Family (Max of 5 individuals from the same household): $10.00 Single: $3.00 Youth (Ages 6-14): $2.50 Senior (55+): $2.00 Ages 5 & Under: Free
URL:https://hampton.ca/event/open-gym-50/2025-08-16/
LOCATION:Mike Murphy Memorial Field House\, 808 Main Street\, Hampton\, New Brunswick\, E5N 6E1\, Canada
CATEGORIES:Community Event
END:VEVENT
BEGIN:VEVENT
DTSTART;TZID=America/Halifax:20250816T154500
DTEND;TZID=America/Halifax:20250816T164500
DTSTAMP:20260422T053535
CREATED:20250620T145139Z
LAST-MODIFIED:20250620T145139Z
UID:10006050-1755359100-1755362700@hampton.ca
SUMMARY:Teen Gym
DESCRIPTION:Drop in and play at the field house! This recreation activity is for ages 13-19. A variety of sports equipment will be out\, and our staff person can help with getting set up if needed. Participants are welcome to bring their own sports equipment to play with. \n\n\n\nA staff person will be interacting on the gym floor once check-in is complete. People outside the target age may attend\, provided they respect the intent of the program and are accompanied by an adult if their age requires it. \n\n\n\nSign up in advance with Amilia! Create an account and check out the activities happening at the Field House with the link here: Register for Programs | Hampton Store \n\n\n\nDrop In – Single Visits:Family (Max of 5 individuals from the same household): $10.00 Single: $3.00 Youth (Ages 6-14): $2.50 Senior (55+): $2.00 Ages 5 & Under: Free
URL:https://hampton.ca/event/teen-gym/2025-08-16/
LOCATION:Mike Murphy Memorial Field House\, 808 Main Street\, Hampton\, New Brunswick\, E5N 6E1\, Canada
CATEGORIES:Community Event
END:VEVENT
END:VCALENDAR