BEGIN:VCALENDAR
VERSION:2.0
PRODID:-//Town of Hampton - ECPv6.15.18//NONSGML v1.0//EN
CALSCALE:GREGORIAN
METHOD:PUBLISH
X-ORIGINAL-URL:https://hampton.ca
X-WR-CALDESC:Events for Town of Hampton
REFRESH-INTERVAL;VALUE=DURATION:PT1H
X-Robots-Tag:noindex
X-PUBLISHED-TTL:PT1H
BEGIN:VTIMEZONE
TZID:America/Halifax
BEGIN:DAYLIGHT
TZOFFSETFROM:-0400
TZOFFSETTO:-0300
TZNAME:ADT
DTSTART:20250309T060000
END:DAYLIGHT
BEGIN:STANDARD
TZOFFSETFROM:-0300
TZOFFSETTO:-0400
TZNAME:AST
DTSTART:20251102T050000
END:STANDARD
BEGIN:DAYLIGHT
TZOFFSETFROM:-0400
TZOFFSETTO:-0300
TZNAME:ADT
DTSTART:20260308T060000
END:DAYLIGHT
BEGIN:STANDARD
TZOFFSETFROM:-0300
TZOFFSETTO:-0400
TZNAME:AST
DTSTART:20261101T050000
END:STANDARD
BEGIN:DAYLIGHT
TZOFFSETFROM:-0400
TZOFFSETTO:-0300
TZNAME:ADT
DTSTART:20270314T060000
END:DAYLIGHT
BEGIN:STANDARD
TZOFFSETFROM:-0300
TZOFFSETTO:-0400
TZNAME:AST
DTSTART:20271107T050000
END:STANDARD
END:VTIMEZONE
BEGIN:VEVENT
DTSTART;TZID=America/Halifax:20260503T143000
DTEND;TZID=America/Halifax:20260503T160000
DTSTAMP:20260421T171739
CREATED:20260409T121806Z
LAST-MODIFIED:20260421T163009Z
UID:10006316-1777818600-1777824000@hampton.ca
SUMMARY:Spring in the Valley - Concert
DESCRIPTION:The Hampton John Peters Humphrey Foundation invites the community to enjoy an afternoon of music at a special spring concert featuring The Buckley Ensemble with Theresa Patterson. \n\n\n\nThe concert will take place on Sunday\, May 3rd at 2:30 p.m. at St. Alphonsus Church\, located at 22 Church Street\, Hampton. \n\n\n\nAdmission is by free will donation\, with a suggested contribution of $10–$20. All proceeds will support the Hampton Food Basket\, which serves more than 200 local families each month. \n\n\n\nCommunity members are encouraged to attend and enjoy an inspiring musical performance while supporting an important local cause.
URL:https://hampton.ca/event/spring-in-the-valley-concert/
LOCATION:St. Alphonsus Church\, 22 Church Street\, Hampton\, New Brunswick\, E5N 5B4\, Canada
CATEGORIES:Community Event
ATTACH;FMTTYPE=image/jpeg:https://hampton.ca/wp-content/uploads/2026/04/Buckley-spring-concert-2026-scaled.jpg
END:VEVENT
BEGIN:VEVENT
DTSTART;TZID=America/Halifax:20260506T100000
DTEND;TZID=America/Halifax:20260506T103000
DTSTAMP:20260421T171739
CREATED:20260401T180418Z
LAST-MODIFIED:20260401T180419Z
UID:10006273-1778061600-1778063400@hampton.ca
SUMMARY:Free Qigong Classes
DESCRIPTION:Take time to relax\, stretch\, and recharge with a free 30-minute Qigong class hosted at the Masonic Lodge at 6 Church Street. Qigong is a gentle practice that combines movement\, breathing\, and mindfulness to support balance\, relaxation\, and overall well-being\, and is suitable for all ages and experience levels. \n\n\n\nThis weekly class runs until May 13th and is supported by the Nursing Home Without Walls organization. All are welcome to attend and enjoy a calm\, welcoming space focused on movement and wellness.
URL:https://hampton.ca/event/free-qigong-classes/2026-05-06/
LOCATION:Corinthian Lodge #13 Masonic Lodge\, 6 Church Street\, Hampton\, NB
CATEGORIES:Community Event
END:VEVENT
BEGIN:VEVENT
DTSTART;TZID=America/Halifax:20260506T110000
DTEND;TZID=America/Halifax:20260506T120000
DTSTAMP:20260421T171739
CREATED:20260401T180938Z
LAST-MODIFIED:20260401T180939Z
UID:10006279-1778065200-1778068800@hampton.ca
SUMMARY:Optimal Aging Video Workshops
DESCRIPTION:Staying healthy\, active\, and safe as you age is important for every older adult.  \n\n\n\nJoin our interactive workshops featuring video demonstrations and lively discussions\, where you’ll discover practical strategies to support your well-being. Participants will learn exercises designed toimprove mobility and strength\, techniques for effective stress management\, and tips for creatinga safer home environment. You’ll walk away with useful tools and knowledge you can apply everyday to help you age with confidence and vitality. \n\n\n\nThis is a 6-week program\, running from April 8th to May 13th\, from 11AM to 12PM. Call Paulette Haines\, the facilitator at 506-636-0079\, for more information.  \n\n\n\nWorkshop Topics: \n\n\n\nApril 8: Get Up Stand Up (falls recovery)April 15: Preserving Muscle MassApril 22: Cultivating HappinessApril 29: Building ResiliencyMay 5: Bone HealthMay 13: Creating & Maintaining New Habits
URL:https://hampton.ca/event/optimal-aging-video-workshops/2026-05-06/
LOCATION:Corinthian Lodge #13 Masonic Lodge\, 6 Church Street\, Hampton\, NB
CATEGORIES:Community Event
END:VEVENT
BEGIN:VEVENT
DTSTART;TZID=America/Halifax:20260511T080000
DTEND;TZID=America/Halifax:20260511T170000
DTSTAMP:20260421T171739
CREATED:20260408T152420Z
LAST-MODIFIED:20260408T152432Z
UID:10006313-1778486400-1778518800@hampton.ca
SUMMARY:2026 Municipal Election Day
DESCRIPTION:Municipal Election Day will take place on Monday\, May 11th. This is an opportunity for residents to have a voice within their community by casting their vote in the upcoming municipal election. \n\n\n\nEligible voters are encouraged to confirm their registration details\, review voting options\, and learn more about the election process in advance. \n\n\n\nFor complete information on voter eligibility\, polling locations\, advance voting\, and how to register or update your information\, please visit the official Elections New Brunswick website with the link below.  \n\n\n\n\n\nMake a plan to vote and have your say on May 11th.
URL:https://hampton.ca/event/2026-municipal-election-day/
LOCATION:New Brunswick
CATEGORIES:Community Event
ATTACH;FMTTYPE=image/png:https://hampton.ca/wp-content/uploads/2026/04/enb-logo-taller.png
END:VEVENT
BEGIN:VEVENT
DTSTART;TZID=America/Halifax:20260513T100000
DTEND;TZID=America/Halifax:20260513T103000
DTSTAMP:20260421T171739
CREATED:20260401T180418Z
LAST-MODIFIED:20260401T180419Z
UID:10006274-1778666400-1778668200@hampton.ca
SUMMARY:Free Qigong Classes
DESCRIPTION:Take time to relax\, stretch\, and recharge with a free 30-minute Qigong class hosted at the Masonic Lodge at 6 Church Street. Qigong is a gentle practice that combines movement\, breathing\, and mindfulness to support balance\, relaxation\, and overall well-being\, and is suitable for all ages and experience levels. \n\n\n\nThis weekly class runs until May 13th and is supported by the Nursing Home Without Walls organization. All are welcome to attend and enjoy a calm\, welcoming space focused on movement and wellness.
URL:https://hampton.ca/event/free-qigong-classes/2026-05-13/
LOCATION:Corinthian Lodge #13 Masonic Lodge\, 6 Church Street\, Hampton\, NB
CATEGORIES:Community Event
END:VEVENT
BEGIN:VEVENT
DTSTART;TZID=America/Halifax:20260513T110000
DTEND;TZID=America/Halifax:20260513T120000
DTSTAMP:20260421T171739
CREATED:20260401T180938Z
LAST-MODIFIED:20260401T180939Z
UID:10006280-1778670000-1778673600@hampton.ca
SUMMARY:Optimal Aging Video Workshops
DESCRIPTION:Staying healthy\, active\, and safe as you age is important for every older adult.  \n\n\n\nJoin our interactive workshops featuring video demonstrations and lively discussions\, where you’ll discover practical strategies to support your well-being. Participants will learn exercises designed toimprove mobility and strength\, techniques for effective stress management\, and tips for creatinga safer home environment. You’ll walk away with useful tools and knowledge you can apply everyday to help you age with confidence and vitality. \n\n\n\nThis is a 6-week program\, running from April 8th to May 13th\, from 11AM to 12PM. Call Paulette Haines\, the facilitator at 506-636-0079\, for more information.  \n\n\n\nWorkshop Topics: \n\n\n\nApril 8: Get Up Stand Up (falls recovery)April 15: Preserving Muscle MassApril 22: Cultivating HappinessApril 29: Building ResiliencyMay 5: Bone HealthMay 13: Creating & Maintaining New Habits
URL:https://hampton.ca/event/optimal-aging-video-workshops/2026-05-13/
LOCATION:Corinthian Lodge #13 Masonic Lodge\, 6 Church Street\, Hampton\, NB
CATEGORIES:Community Event
END:VEVENT
BEGIN:VEVENT
DTSTART;TZID=America/Halifax:20260521T190000
DTEND;TZID=America/Halifax:20260521T213000
DTSTAMP:20260421T171739
CREATED:20260408T143400Z
LAST-MODIFIED:20260408T143927Z
UID:10006300-1779390000-1779399000@hampton.ca
SUMMARY:TIFF Third Thursdays
DESCRIPTION:Join us for TIFF Third Thursdays\, a monthly film series held at 7:30PM in the McLeod Community Room at the Summit Centre. Each screening features a curated selection of Canadian and international films\, bringing unique and engaging cinema to our community. \n\n\n\nThis month’s film is “Eleanor The Great”\, directed by Scarlett Johansson. Doors open at 7PM. \n\n\n\nTickets are $12.50 per film or $80 for the 2026 season. Visit Amilia to buy tickets today!
URL:https://hampton.ca/event/tiff-third-thursdays-2/
LOCATION:McLeod Community Room\, 300 William Bell Drive\, Hampton\, New Brunswick\, Canada
CATEGORIES:Community Event
ATTACH;FMTTYPE=image/jpeg:https://hampton.ca/wp-content/uploads/2026/04/1.-TIFF-May-FB.jpg
END:VEVENT
END:VCALENDAR