BEGIN:VCALENDAR
VERSION:2.0
PRODID:-//Town of Hampton - ECPv6.15.18//NONSGML v1.0//EN
CALSCALE:GREGORIAN
METHOD:PUBLISH
X-WR-CALNAME:Town of Hampton
X-ORIGINAL-URL:https://hampton.ca
X-WR-CALDESC:Events for Town of Hampton
REFRESH-INTERVAL;VALUE=DURATION:PT1H
X-Robots-Tag:noindex
X-PUBLISHED-TTL:PT1H
BEGIN:VTIMEZONE
TZID:America/Halifax
BEGIN:DAYLIGHT
TZOFFSETFROM:-0400
TZOFFSETTO:-0300
TZNAME:ADT
DTSTART:20250309T060000
END:DAYLIGHT
BEGIN:STANDARD
TZOFFSETFROM:-0300
TZOFFSETTO:-0400
TZNAME:AST
DTSTART:20251102T050000
END:STANDARD
BEGIN:DAYLIGHT
TZOFFSETFROM:-0400
TZOFFSETTO:-0300
TZNAME:ADT
DTSTART:20260308T060000
END:DAYLIGHT
BEGIN:STANDARD
TZOFFSETFROM:-0300
TZOFFSETTO:-0400
TZNAME:AST
DTSTART:20261101T050000
END:STANDARD
BEGIN:DAYLIGHT
TZOFFSETFROM:-0400
TZOFFSETTO:-0300
TZNAME:ADT
DTSTART:20270314T060000
END:DAYLIGHT
BEGIN:STANDARD
TZOFFSETFROM:-0300
TZOFFSETTO:-0400
TZNAME:AST
DTSTART:20271107T050000
END:STANDARD
END:VTIMEZONE
BEGIN:VEVENT
DTSTART;TZID=America/Halifax:20260421T160000
DTEND;TZID=America/Halifax:20260421T170000
DTSTAMP:20260421T123457
CREATED:20260401T183042Z
LAST-MODIFIED:20260402T120746Z
UID:10006283-1776787200-1776790800@hampton.ca
SUMMARY:Hampton Learning Lab - Build Your Brand
DESCRIPTION:Join us on April 21st in the McLeod Community Room at the Summit Centre for this month’s Hampton Learning Lab\, a free session focused on building your personal brand and elevating your resume.  \n\n\n\nLed by Andrew Holmes of 3 Strands Integrated Marketing Solutions\, this workshop will share practical tips on how to better showcase your skills\, strengthen your professional presence\, and stand out to employers. With over 15 years of experience in marketing and sales\, Andrew has helped more than 450 small businesses achieve their goals through effective strategies and tools\, bringing valuable real-world insight to this engaging and informative session.
URL:https://hampton.ca/event/hampton-learning-lab-build-your-brand/
LOCATION:McLeod Community Room\, 300 William Bell Drive\, Hampton\, New Brunswick\, Canada
CATEGORIES:Community Event
ATTACH;FMTTYPE=image/jpeg:https://hampton.ca/wp-content/uploads/2026/04/Hampton-Learning-Labs-FB.jpg
END:VEVENT
END:VCALENDAR