BEGIN:VCALENDAR
VERSION:2.0
PRODID:-//Town of Hampton - ECPv6.15.18//NONSGML v1.0//EN
CALSCALE:GREGORIAN
METHOD:PUBLISH
X-WR-CALNAME:Town of Hampton
X-ORIGINAL-URL:https://hampton.ca
X-WR-CALDESC:Events for Town of Hampton
REFRESH-INTERVAL;VALUE=DURATION:PT1H
X-Robots-Tag:noindex
X-PUBLISHED-TTL:PT1H
BEGIN:VTIMEZONE
TZID:America/Halifax
BEGIN:DAYLIGHT
TZOFFSETFROM:-0400
TZOFFSETTO:-0300
TZNAME:ADT
DTSTART:20240310T060000
END:DAYLIGHT
BEGIN:STANDARD
TZOFFSETFROM:-0300
TZOFFSETTO:-0400
TZNAME:AST
DTSTART:20241103T050000
END:STANDARD
BEGIN:DAYLIGHT
TZOFFSETFROM:-0400
TZOFFSETTO:-0300
TZNAME:ADT
DTSTART:20250309T060000
END:DAYLIGHT
BEGIN:STANDARD
TZOFFSETFROM:-0300
TZOFFSETTO:-0400
TZNAME:AST
DTSTART:20251102T050000
END:STANDARD
BEGIN:DAYLIGHT
TZOFFSETFROM:-0400
TZOFFSETTO:-0300
TZNAME:ADT
DTSTART:20260308T060000
END:DAYLIGHT
BEGIN:STANDARD
TZOFFSETFROM:-0300
TZOFFSETTO:-0400
TZNAME:AST
DTSTART:20261101T050000
END:STANDARD
END:VTIMEZONE
BEGIN:VEVENT
DTSTART;TZID=America/Halifax:20250808T100000
DTEND;TZID=America/Halifax:20250808T113000
DTSTAMP:20260422T082531
CREATED:20250619T200827Z
LAST-MODIFIED:20250619T200827Z
UID:10006032-1754647200-1754652600@hampton.ca
SUMMARY:Seniors Gym
DESCRIPTION:Drop in and play at the field house! A variety of sports equipment will be out\, and our staff person can help with getting set up if needed. Participants are welcome to bring their own sports equipment to play with. The minimum required age is 55. \n\n\n\nSign up in advance with Amilia! Create an account and check out the activities happening at the Field House with the link here: Register for Programs | Hampton Store \n\n\n\nDrop In – Single Visits:Family (Max of 5 individuals from the same household): $10.00 Single: $3.00 Youth (Ages 6-14): $2.50 Senior (55+): $2.00 Ages 5 & Under: Free
URL:https://hampton.ca/event/seniors-gym-8/2025-08-08/
LOCATION:Mike Murphy Memorial Field House\, 808 Main Street\, Hampton\, New Brunswick\, E5N 6E1\, Canada
CATEGORIES:Community Event
END:VEVENT
BEGIN:VEVENT
DTSTART;TZID=America/Halifax:20250808T150000
DTEND;TZID=America/Halifax:20250808T160000
DTSTAMP:20260422T082531
CREATED:20250619T180253Z
LAST-MODIFIED:20250619T180253Z
UID:10005877-1754665200-1754668800@hampton.ca
SUMMARY:Middle School Gym
DESCRIPTION:Drop in and play at the field house! This recreation activity is for grades 6 to 8 (Ages 12-14). A variety of sports equipment will be out\, and our staff person can help with getting set up if needed. Participants are welcome to bring their own sports equipment to play with. \n\n\n\nA staff person will be interacting on the gym floor once check-in is complete. People outside the target age may attend\, provided they respect the intent of the program and are accompanied by an adult if their age requires it. \n\n\n\nSign up in advance with Amilia! Create an account and check out the activities happening at the Field House with the link here: Register for Programs | Hampton Store \n\n\n\nDrop In – Single Visits:Family (Max of 5 individuals from the same household): $10.00 Single: $3.00 Youth (Ages 6-14): $2.50 Senior (55+): $2.00 Ages 5 & Under: Free
URL:https://hampton.ca/event/middle-school-gym-35/2025-08-08/
LOCATION:Mike Murphy Memorial Field House\, 808 Main Street\, Hampton\, New Brunswick\, E5N 6E1\, Canada
CATEGORIES:Community Event
END:VEVENT
BEGIN:VEVENT
DTSTART;TZID=America/Halifax:20250808T161500
DTEND;TZID=America/Halifax:20250808T171500
DTSTAMP:20260422T082531
CREATED:20250619T180406Z
LAST-MODIFIED:20250619T180406Z
UID:10005885-1754669700-1754673300@hampton.ca
SUMMARY:Open Gym
DESCRIPTION:Drop in and play at the field house! A variety of sports equipment will be out for all ages\, and our staff person can help with getting set up if needed. Participants are welcome to bring their own sports equipment to play with. \n\n\n\nSign up in advance with Amilia! Create an account and check out the activities happening at the Field House with the link here: Register for Programs | Hampton Store \n\n\n\nDrop In – Single Visits:Family (Max of 5 individuals from the same household): $10.00 Single: $3.00 Youth (Ages 6-14): $2.50 Senior (55+): $2.00 Ages 5 & Under: Free
URL:https://hampton.ca/event/open-gym-49/2025-08-08/
LOCATION:Mike Murphy Memorial Field House\, 808 Main Street\, Hampton\, New Brunswick\, E5N 6E1\, Canada
CATEGORIES:Community Event
END:VEVENT
BEGIN:VEVENT
DTSTART;TZID=America/Halifax:20250808T173000
DTEND;TZID=America/Halifax:20250808T183000
DTSTAMP:20260422T082531
CREATED:20250619T180520Z
LAST-MODIFIED:20250619T180520Z
UID:10005893-1754674200-1754677800@hampton.ca
SUMMARY:Roller Skate
DESCRIPTION:The wheeled version of public skate! Bring your roller blades/skates down to the field house and go for a skate! \n\n\n\nNo sticks/balls permitted \n\n\n\nSign up in advance with Amilia! Create an account and check out the activities happening at the Field House with the link here: Register for Programs | Hampton Store \n\n\n\nDrop In – Single Visits:Family (Max of 5 individuals from the same household): $10.00 Single: $3.00 Youth (Ages 6-14): $2.50 Senior (55+): $2.00 Ages 5 & Under: Free
URL:https://hampton.ca/event/roller-skate-17/2025-08-08/
LOCATION:Mike Murphy Memorial Field House\, 808 Main Street\, Hampton\, New Brunswick\, E5N 6E1\, Canada
CATEGORIES:Community Event
END:VEVENT
BEGIN:VEVENT
DTSTART;TZID=America/Halifax:20250808T205000
DTEND;TZID=America/Halifax:20250808T223000
DTSTAMP:20260422T082531
CREATED:20250530T220253Z
LAST-MODIFIED:20250903T203136Z
UID:10005763-1754686200-1754692200@hampton.ca
SUMMARY:Hampton's Movie at the Pool Event
DESCRIPTION:Join us on August 8th for a splashing good time at the Hampton Community Pool (808 Main Street)\, as we host our first “Movies at the Pool” event this summer!  \n\n\n\nWe’ll be showing the family favourite\, Finding Dory (PG)\, starting at dusk. Arrive at 8:50 PM to get settled in and secure the best spot to float and watch the movie. \n\n\n\nDate: August 9thArrival Time: 8:50 PMLocation: Hampton Community Pool \n\n\n\nTo attend\, we ask you to register on Amilia to secure your spot at this fin-tastic event. See you there!
URL:https://hampton.ca/event/hamptons-movie-at-the-pool-event/
LOCATION:Mike Murphy Memorial Field House\, 808 Main Street\, Hampton\, New Brunswick\, E5N 6E1\, Canada
CATEGORIES:Community Event
ATTACH;FMTTYPE=image/jpeg:https://hampton.ca/wp-content/uploads/2025/09/6.-Finding-Dory-August-8th-Pool-Movie-FB.jpg
END:VEVENT
END:VCALENDAR